BEGIN:VCALENDAR
VERSION:2.0
PRODID:-//85.13.144.107//NONSGML kigkonsult.se iCalcreator 2.20//
CALSCALE:GREGORIAN
METHOD:PUBLISH
X-WR-TIMEZONE:Europe/Berlin
BEGIN:VEVENT
UID:event46@deejaymaniac.de
DTSTAMP:20260423T015249Z
CATEGORIES:Event
DESCRIPTION:INSANE pres HARD CHRISTMAS\nCategory: Event\nLink: https://www.
 deejaymaniac.com/index.php?option=com_jem&view=event&id=46:insane-pres-har
 d-christmas\n
DTSTART;VALUE=DATE:20251225
DTEND;VALUE=DATE:20251226
LOCATION:Atrium\,Dieselstrasse 3\,24223 Raisdorf
SUMMARY:INSANE pres HARD CHRISTMAS
URL:https://www.deejaymaniac.com/index.php?option=com_jem&view=event&id=46:
 insane-pres-hard-christmas
END:VEVENT
END:VCALENDAR